Name | Last modified | Size | Description | |
---|---|---|---|---|
Parent Directory | - | |||
buildsrc-out.txt | 17-Oct-2021 04:58 | 869 | ||
buildsrc-summary.dcf | 17-Oct-2021 04:58 | 418 | ||
checksrc-out.txt | 17-Oct-2021 04:58 | 3.5K | ||
checksrc-summary.dcf | 17-Oct-2021 04:58 | 423 | ||
install-out.txt | 17-Oct-2021 04:58 | 955 | ||
install-summary.dcf | 17-Oct-2021 04:58 | 259 | ||