Index of /checkResults/3.13/data-experiment-LATEST/DeSousa2013/raw-results
Name
Last modified
Size
Description
Parent Directory
-
malbec2/
17-Oct-2021 04:58
-
info.dcf
17-Oct-2021 04:58
278