Name | Last modified | Size | Description | |
---|---|---|---|---|
Parent Directory | - | |||
install-summary.dcf | 17-Oct-2021 04:58 | 290 | ||
install-out.txt | 17-Oct-2021 04:58 | 971 | ||
checksrc-summary.dcf | 17-Oct-2021 04:58 | 487 | ||
checksrc-out.txt | 17-Oct-2021 04:58 | 3.4K | ||
buildsrc-summary.dcf | 17-Oct-2021 04:58 | 465 | ||
buildsrc-out.txt | 17-Oct-2021 04:58 | 1.3K | ||