Name | Last modified | Size | Description | |
---|---|---|---|---|
Parent Directory | - | |||
buildsrc-summary.dcf | 17-Oct-2021 04:58 | 417 | ||
install-out.txt | 17-Oct-2021 04:58 | 889 | ||
install-summary.dcf | 17-Oct-2021 04:58 | 258 | ||
buildsrc-out.txt | 17-Oct-2021 04:58 | 869 | ||
checksrc-summary.dcf | 17-Oct-2021 04:58 | 424 | ||
checksrc-out.txt | 17-Oct-2021 04:58 | 3.3K | ||