Back to Books build report for BioC 3.13

Results for malbec2

This page was generated on 2021-01-15 16:45:06 -0500 (Fri, 15 Jan 2021).

Package status is indicated by one of the following glyphs
 TIMEOUT  INSTALL or BUILD of package took more than 40 or 300 minutes, respectively Use the check boxes to show only packages with the selected status types.
 ERROR  Bad DESCRIPTION file or INSTALL or BUILD of package failed
 OK  INSTALL or BUILD of package was OK
 skipped  CHECK or BUILD BIN of package was skipped because the BUILD step failed
 NA  BUILD result is not available because of an anomaly in the Build System
Click on any glyph in the report below to access the detailed results.
Package propagation status is indicated by one of the following LEDs
YES YES: Package was propagated because it didn't previously exist or version was bumped
NO NO: Package was not propagated because of a problem (impossible dependencies, or version lower than what is already propagated)
UNNEEDED UNNEEDED: Package was not propagated because it is already in the repository with this version. A version bump is required in order to propagate it

A crossed-out package name indicates the package is deprecated


SUMMARYOS / ArchINSTALLBUILD
[malbec2] Linux (Ubuntu 20.04.1 LTS) / x86_64 
003
012
riesling1 Windows Server 2019 Standard / x64 
003
021
PackageMaintainerINSTALLBUILD
1/3csawBook 0.99.3Aaron Lun OK  OK UNNEEDED, same version exists in internal repository
2/3OSCA 1.1.13Aaron Lun OK  ERROR 
3/3SingleRBook 1.1.1Aaron Lun OK  OK UNNEEDED, same version exists in internal repository