Back to Books build report for BioC 3.13

INSTALL report for csawBook on riesling1

This page was generated on 2021-01-15 16:45:06 -0500 (Fri, 15 Jan 2021).

TO THE DEVELOPERS/MAINTAINERS OF THE csawBook PACKAGE: Please make sure to use the following settings in order to reproduce any error or warning you see on this page.
Package 1/3HostnameOS / ArchINSTALLBUILD
csawBook 0.99.3
Aaron Lun
Snapshot Date: 2021-01-15 09:00:02 -0500 (Fri, 15 Jan 2021)
URL: https://git.bioconductor.org/packages/csawBook
Branch: master
Last Commit: 22c5503
Last Changed Date: 2020-11-19 00:13:03 -0500 (Thu, 19 Nov 2020)
malbec2 Linux (Ubuntu 20.04.1 LTS) / x86_64  OK  OK UNNEEDED, same version exists in internal repository
riesling1 Windows Server 2019 Standard / x64 [ OK ] ERROR 

Summary

Package: csawBook
Version: 0.99.3
Command: C:\cygwin\bin\curl.exe -O http://172.29.0.4/BBS/3.13/books/src/contrib/csawBook_0.99.3.tar.gz && rm -rf csawBook.buildbin-libdir && mkdir csawBook.buildbin-libdir && D:\biocbuild\bbs-3.13-bioc\R\bin\R.exe CMD INSTALL --merge-multiarch --build --library=csawBook.buildbin-libdir csawBook_0.99.3.tar.gz && D:\biocbuild\bbs-3.13-bioc\R\bin\R.exe CMD INSTALL csawBook_0.99.3.zip && rm csawBook_0.99.3.tar.gz csawBook_0.99.3.zip
StartedAt: 2021-01-15 10:30:10 -0500 (Fri, 15 Jan 2021)
EndedAt: 2021-01-15 10:30:48 -0500 (Fri, 15 Jan 2021)
EllapsedTime: 38.4 seconds
RetCode: 0
Status:  OK  

Command output

##############################################################################
##############################################################################
###
### Running command:
###
###   C:\cygwin\bin\curl.exe -O http://172.29.0.4/BBS/3.13/books/src/contrib/csawBook_0.99.3.tar.gz && rm -rf csawBook.buildbin-libdir && mkdir csawBook.buildbin-libdir && D:\biocbuild\bbs-3.13-bioc\R\bin\R.exe CMD INSTALL --merge-multiarch --build --library=csawBook.buildbin-libdir csawBook_0.99.3.tar.gz && D:\biocbuild\bbs-3.13-bioc\R\bin\R.exe CMD INSTALL csawBook_0.99.3.zip && rm csawBook_0.99.3.tar.gz csawBook_0.99.3.zip
###
##############################################################################
##############################################################################


  % Total    % Received % Xferd  Average Speed   Time    Time     Time  Current
                                 Dload  Upload   Total   Spent    Left  Speed

  0     0    0     0    0     0      0      0 --:--:-- --:--:-- --:--:--     0
100 64628  100 64628    0     0  1660k      0 --:--:-- --:--:-- --:--:-- 1660k

install for i386

* installing *source* package 'csawBook' ...
** using staged installation
** inst
** help
No man pages found in package  'csawBook' 
*** installing help indices
** building package indices
** installing vignettes
** testing if installed package can be loaded from temporary location
** testing if installed package can be loaded from final location
** testing if installed package keeps a record of temporary installation path

install for x64

* installing *source* package 'csawBook' ...
** testing if installed package can be loaded
* MD5 sums
packaged installation of 'csawBook' as csawBook_0.99.3.zip
* DONE (csawBook)
* installing to library 'D:/biocbuild/bbs-3.13-bioc/R/library'
package 'csawBook' successfully unpacked and MD5 sums checked