Index of /checkResults/3.13/bioc-LATEST/wppi/raw-results/tokay2
Name
Last modified
Size
Description
Parent Directory
-
buildsrc-summary.dcf
16-Oct-2021 04:06
364
install-summary.dcf
16-Oct-2021 04:06
607
buildsrc-out.txt
16-Oct-2021 04:06
2.5K
install-out.txt
16-Oct-2021 04:06
2.8K