Index of /checkResults/3.13/bioc-LATEST/trena/raw-results/nebbiolo1
Name
Last modified
Size
Description
Parent Directory
-
buildsrc-out.txt
16-Oct-2021 04:05
3.3K
buildsrc-summary.dcf
16-Oct-2021 04:05
329
install-out.txt
16-Oct-2021 04:05
1.1K
install-summary.dcf
16-Oct-2021 04:05
255