Name | Last modified | Size | Description | |
---|---|---|---|---|
Parent Directory | - | |||
buildbin-out.txt | 16-Oct-2021 04:06 | 1.9K | ||
buildbin-summary.dcf | 16-Oct-2021 04:06 | 525 | ||
buildsrc-out.txt | 16-Oct-2021 04:06 | 872 | ||
buildsrc-summary.dcf | 16-Oct-2021 04:06 | 451 | ||
checksrc-out.txt | 16-Oct-2021 04:06 | 5.1K | ||
checksrc-summary.dcf | 16-Oct-2021 04:06 | 454 | ||
install-out.txt | 16-Oct-2021 04:06 | 2.6K | ||
install-summary.dcf | 16-Oct-2021 04:06 | 622 | ||