Index of /checkResults/3.13/bioc-LATEST/sitadela/raw-results/tokay2
Name
Last modified
Size
Description
Parent Directory
-
install-summary.dcf
16-Oct-2021 04:06
651
install-out.txt
16-Oct-2021 04:06
1.7K
buildsrc-summary.dcf
16-Oct-2021 04:06
464
buildsrc-out.txt
16-Oct-2021 04:06
1.2K