Name | Last modified | Size | Description | |
---|---|---|---|---|
Parent Directory | - | |||
buildsrc-out.txt | 16-Oct-2021 04:05 | 857 | ||
buildsrc-summary.dcf | 16-Oct-2021 04:05 | 409 | ||
checksrc-out.txt | 16-Oct-2021 04:05 | 7.2K | ||
checksrc-summary.dcf | 16-Oct-2021 04:05 | 412 | ||
install-out.txt | 16-Oct-2021 04:05 | 946 | ||
install-summary.dcf | 16-Oct-2021 04:05 | 253 | ||