Name | Last modified | Size | Description | |
---|---|---|---|---|
Parent Directory | - | |||
install-summary.dcf | 16-Oct-2021 04:06 | 280 | ||
buildsrc-summary.dcf | 16-Oct-2021 04:06 | 436 | ||
checksrc-summary.dcf | 16-Oct-2021 04:06 | 466 | ||
buildbin-summary.dcf | 16-Oct-2021 04:06 | 525 | ||
buildsrc-out.txt | 16-Oct-2021 04:06 | 884 | ||
install-out.txt | 16-Oct-2021 04:06 | 1.0K | ||
buildbin-out.txt | 16-Oct-2021 04:06 | 1.1K | ||
checksrc-out.txt | 16-Oct-2021 04:06 | 7.5K | ||