Index of /checkResults/3.13/bioc-LATEST/rqt/raw-results/nebbiolo1
Name
Last modified
Size
Description
Parent Directory
-
install-summary.dcf
16-Oct-2021 04:05
251
install-out.txt
16-Oct-2021 04:05
935
buildsrc-summary.dcf
16-Oct-2021 04:05
325
buildsrc-out.txt
16-Oct-2021 04:05
3.7K