Name | Last modified | Size | Description | |
---|---|---|---|---|
Parent Directory | - | |||
buildbin-out.txt | 16-Oct-2021 04:06 | 2.4K | ||
buildbin-summary.dcf | 16-Oct-2021 04:06 | 566 | ||
buildsrc-out.txt | 16-Oct-2021 04:06 | 1.0K | ||
buildsrc-summary.dcf | 16-Oct-2021 04:06 | 477 | ||
checksrc-out.txt | 16-Oct-2021 04:06 | 3.8K | ||
checksrc-summary.dcf | 16-Oct-2021 04:06 | 480 | ||
install-out.txt | 16-Oct-2021 04:06 | 3.1K | ||
install-summary.dcf | 16-Oct-2021 04:06 | 680 | ||