Name | Last modified | Size | Description | |
---|---|---|---|---|
Parent Directory | - | |||
install-out.txt | 16-Oct-2021 04:06 | 29K | ||
install-summary.dcf | 16-Oct-2021 04:06 | 704 | ||
buildsrc-out.txt | 16-Oct-2021 04:06 | 1.0K | ||
buildsrc-summary.dcf | 16-Oct-2021 04:06 | 486 | ||
checksrc-out.txt | 16-Oct-2021 04:06 | 4.7K | ||
checksrc-summary.dcf | 16-Oct-2021 04:06 | 489 | ||
buildbin-out.txt | 16-Oct-2021 04:06 | 29K | ||
buildbin-summary.dcf | 16-Oct-2021 04:06 | 582 | ||