Name | Last modified | Size | Description | |
---|---|---|---|---|
Parent Directory | - | |||
install-summary.dcf | 16-Oct-2021 04:05 | 269 | ||
buildsrc-summary.dcf | 16-Oct-2021 04:05 | 432 | ||
checksrc-summary.dcf | 16-Oct-2021 04:05 | 443 | ||
buildsrc-out.txt | 16-Oct-2021 04:05 | 826 | ||
install-out.txt | 16-Oct-2021 04:05 | 1.1K | ||
checksrc-out.txt | 16-Oct-2021 04:05 | 3.3K | ||