Name | Last modified | Size | Description | |
---|---|---|---|---|
Parent Directory | - | |||
install-summary.dcf | 16-Oct-2021 04:05 | 252 | ||
install-out.txt | 16-Oct-2021 04:05 | 139K | ||
checksrc-summary.dcf | 16-Oct-2021 04:05 | 410 | ||
checksrc-out.txt | 16-Oct-2021 04:05 | 3.5K | ||
buildsrc-summary.dcf | 16-Oct-2021 04:05 | 406 | ||
buildsrc-out.txt | 16-Oct-2021 04:05 | 823 | ||