Name | Last modified | Size | Description | |
---|---|---|---|---|
Parent Directory | - | |||
buildsrc-summary.dcf | 16-Oct-2021 04:06 | 445 | ||
checksrc-summary.dcf | 16-Oct-2021 04:06 | 454 | ||
buildbin-summary.dcf | 16-Oct-2021 04:06 | 518 | ||
install-summary.dcf | 16-Oct-2021 04:06 | 607 | ||
buildsrc-out.txt | 16-Oct-2021 04:06 | 829 | ||
buildbin-out.txt | 16-Oct-2021 04:06 | 1.5K | ||
install-out.txt | 16-Oct-2021 04:06 | 2.2K | ||
checksrc-out.txt | 16-Oct-2021 04:06 | 4.3K | ||