Name | Last modified | Size | Description | |
---|---|---|---|---|
Parent Directory | - | |||
install-summary.dcf | 16-Oct-2021 04:06 | 298 | ||
install-out.txt | 16-Oct-2021 04:06 | 1.0K | ||
checksrc-summary.dcf | 16-Oct-2021 04:06 | 502 | ||
checksrc-out.txt | 16-Oct-2021 04:06 | 4.0K | ||
buildsrc-summary.dcf | 16-Oct-2021 04:06 | 462 | ||
buildsrc-out.txt | 16-Oct-2021 04:06 | 920 | ||
buildbin-summary.dcf | 16-Oct-2021 04:06 | 583 | ||
buildbin-out.txt | 16-Oct-2021 04:06 | 1.2K | ||