Name | Last modified | Size | Description | |
---|---|---|---|---|
Parent Directory | - | |||
buildsrc-out.txt | 16-Oct-2021 04:06 | 860 | ||
buildsrc-summary.dcf | 16-Oct-2021 04:06 | 470 | ||
install-out.txt | 16-Oct-2021 04:06 | 2.7K | ||
install-summary.dcf | 16-Oct-2021 04:06 | 667 | ||
checksrc-out.txt | 16-Oct-2021 04:06 | 3.8K | ||
checksrc-summary.dcf | 16-Oct-2021 04:06 | 474 | ||
buildbin-out.txt | 16-Oct-2021 04:06 | 2.0K | ||
buildbin-summary.dcf | 16-Oct-2021 04:06 | 555 | ||