Name | Last modified | Size | Description | |
---|---|---|---|---|
Parent Directory | - | |||
install-summary.dcf | 16-Oct-2021 04:05 | 255 | ||
buildsrc-summary.dcf | 16-Oct-2021 04:05 | 412 | ||
checksrc-summary.dcf | 16-Oct-2021 04:05 | 416 | ||
buildsrc-out.txt | 16-Oct-2021 04:05 | 838 | ||
install-out.txt | 16-Oct-2021 04:05 | 941 | ||
checksrc-out.txt | 16-Oct-2021 04:05 | 3.1K | ||