Name | Last modified | Size | Description | |
---|---|---|---|---|
Parent Directory | - | |||
buildsrc-out.txt | 16-Oct-2021 04:06 | 1.0K | ||
buildsrc-summary.dcf | 16-Oct-2021 04:06 | 515 | ||
install-out.txt | 16-Oct-2021 04:06 | 2.6K | ||
install-summary.dcf | 16-Oct-2021 04:06 | 766 | ||
checksrc-out.txt | 16-Oct-2021 04:06 | 4.7K | ||
checksrc-summary.dcf | 16-Oct-2021 04:06 | 524 | ||
buildbin-out.txt | 16-Oct-2021 04:06 | 1.9K | ||
buildbin-summary.dcf | 16-Oct-2021 04:06 | 623 | ||