Name | Last modified | Size | Description | |
---|---|---|---|---|
Parent Directory | - | |||
buildsrc-summary.dcf | 16-Oct-2021 04:06 | 470 | ||
checksrc-summary.dcf | 16-Oct-2021 04:06 | 473 | ||
buildbin-summary.dcf | 16-Oct-2021 04:06 | 558 | ||
install-summary.dcf | 16-Oct-2021 04:06 | 667 | ||
buildsrc-out.txt | 16-Oct-2021 04:06 | 920 | ||
buildbin-out.txt | 16-Oct-2021 04:06 | 1.6K | ||
install-out.txt | 16-Oct-2021 04:06 | 2.2K | ||
checksrc-out.txt | 16-Oct-2021 04:06 | 3.9K | ||