Index of /checkResults/3.13/bioc-LATEST/dualKS/raw-results/machv2
Name
Last modified
Size
Description
Parent Directory
-
buildsrc-out.txt
16-Oct-2021 04:06
2.7K
buildsrc-summary.dcf
16-Oct-2021 04:06
358
install-out.txt
16-Oct-2021 04:06
1.0K
install-summary.dcf
16-Oct-2021 04:06
284