Name | Last modified | Size | Description | |
---|---|---|---|---|
Parent Directory | - | |||
install-summary.dcf | 16-Oct-2021 04:05 | 263 | ||
install-out.txt | 16-Oct-2021 04:05 | 948 | ||
checksrc-summary.dcf | 16-Oct-2021 04:05 | 433 | ||
checksrc-out.txt | 16-Oct-2021 04:05 | 3.0K | ||
buildsrc-summary.dcf | 16-Oct-2021 04:05 | 423 | ||
buildsrc-out.txt | 16-Oct-2021 04:05 | 817 | ||