Name | Last modified | Size | Description | |
---|---|---|---|---|
Parent Directory | - | |||
install-summary.dcf | 16-Oct-2021 04:06 | 659 | ||
install-out.txt | 16-Oct-2021 04:06 | 12K | ||
checksrc-summary.dcf | 16-Oct-2021 04:06 | 470 | ||
checksrc-out.txt | 16-Oct-2021 04:06 | 4.9K | ||
buildsrc-summary.dcf | 16-Oct-2021 04:06 | 467 | ||
buildsrc-out.txt | 16-Oct-2021 04:06 | 892 | ||
buildbin-summary.dcf | 16-Oct-2021 04:06 | 551 | ||
buildbin-out.txt | 16-Oct-2021 04:06 | 11K | ||