Name | Last modified | Size | Description | |
---|---|---|---|---|
Parent Directory | - | |||
buildbin-summary.dcf | 16-Oct-2021 04:06 | 529 | ||
buildbin-out.txt | 16-Oct-2021 04:06 | 2.2K | ||
checksrc-summary.dcf | 16-Oct-2021 04:06 | 462 | ||
checksrc-out.txt | 16-Oct-2021 04:06 | 4.2K | ||
install-summary.dcf | 16-Oct-2021 04:06 | 625 | ||
install-out.txt | 16-Oct-2021 04:06 | 2.8K | ||
buildsrc-summary.dcf | 16-Oct-2021 04:06 | 451 | ||
buildsrc-out.txt | 16-Oct-2021 04:06 | 876 | ||