Name | Last modified | Size | Description | |
---|---|---|---|---|
Parent Directory | - | |||
buildbin-summary.dcf | 16-Oct-2021 04:06 | 546 | ||
buildbin-out.txt | 16-Oct-2021 04:06 | 7.2K | ||
checksrc-summary.dcf | 16-Oct-2021 04:06 | 466 | ||
checksrc-out.txt | 16-Oct-2021 04:06 | 5.9K | ||
install-summary.dcf | 16-Oct-2021 04:06 | 650 | ||
install-out.txt | 16-Oct-2021 04:06 | 7.9K | ||
buildsrc-summary.dcf | 16-Oct-2021 04:06 | 463 | ||
buildsrc-out.txt | 16-Oct-2021 04:06 | 882 | ||