Name | Last modified | Size | Description | |
---|---|---|---|---|
Parent Directory | - | |||
buildbin-out.txt | 16-Oct-2021 04:06 | 1.2K | ||
buildbin-summary.dcf | 16-Oct-2021 04:06 | 580 | ||
buildsrc-out.txt | 16-Oct-2021 04:06 | 919 | ||
buildsrc-summary.dcf | 16-Oct-2021 04:06 | 461 | ||
checksrc-out.txt | 16-Oct-2021 04:06 | 3.4K | ||
checksrc-summary.dcf | 16-Oct-2021 04:06 | 500 | ||
install-out.txt | 16-Oct-2021 04:06 | 1.0K | ||
install-summary.dcf | 16-Oct-2021 04:06 | 297 | ||