Name | Last modified | Size | Description | |
---|---|---|---|---|
Parent Directory | - | |||
buildbin-out.txt | 16-Oct-2021 04:05 | 9.3K | ||
buildbin-summary.dcf | 16-Oct-2021 04:05 | 563 | ||
buildsrc-out.txt | 16-Oct-2021 04:05 | 957 | ||
buildsrc-summary.dcf | 16-Oct-2021 04:05 | 474 | ||
checksrc-out.txt | 16-Oct-2021 04:05 | 9.3K | ||
checksrc-summary.dcf | 16-Oct-2021 04:05 | 477 | ||
install-out.txt | 16-Oct-2021 04:05 | 10K | ||
install-summary.dcf | 16-Oct-2021 04:05 | 676 | ||