Name | Last modified | Size | Description | |
---|---|---|---|---|
Parent Directory | - | |||
buildsrc-out.txt | 16-Oct-2021 04:05 | 745 | ||
buildsrc-summary.dcf | 16-Oct-2021 04:05 | 413 | ||
checksrc-out.txt | 16-Oct-2021 04:05 | 6.0K | ||
checksrc-summary.dcf | 16-Oct-2021 04:05 | 425 | ||
install-out.txt | 16-Oct-2021 04:05 | 28K | ||
install-summary.dcf | 16-Oct-2021 04:05 | 257 | ||