Index of /checkResults/3.13/bioc-LATEST/YAPSA/raw-results/machv2
Name
Last modified
Size
Description
Parent Directory
-
buildsrc-summary.dcf
16-Oct-2021 04:06
357
buildsrc-out.txt
16-Oct-2021 04:06
17K
install-summary.dcf
16-Oct-2021 04:06
282
install-out.txt
16-Oct-2021 04:06
1.0K