Name | Last modified | Size | Description | |
---|---|---|---|---|
Parent Directory | - | |||
checksrc-summary.dcf | 16-Oct-2021 04:05 | 430 | ||
checksrc-out.txt | 16-Oct-2021 04:05 | 4.3K | ||
buildsrc-summary.dcf | 16-Oct-2021 04:05 | 422 | ||
buildsrc-out.txt | 16-Oct-2021 04:05 | 843 | ||
install-summary.dcf | 16-Oct-2021 04:05 | 262 | ||
install-out.txt | 16-Oct-2021 04:05 | 64K | ||