Name | Last modified | Size | Description | |
---|---|---|---|---|
Parent Directory | - | |||
buildbin-out.txt | 16-Oct-2021 04:06 | 47K | ||
buildbin-summary.dcf | 16-Oct-2021 04:06 | 557 | ||
buildsrc-out.txt | 16-Oct-2021 04:06 | 870 | ||
buildsrc-summary.dcf | 16-Oct-2021 04:06 | 449 | ||
checksrc-out.txt | 16-Oct-2021 04:06 | 4.3K | ||
checksrc-summary.dcf | 16-Oct-2021 04:06 | 484 | ||
install-out.txt | 16-Oct-2021 04:06 | 47K | ||
install-summary.dcf | 16-Oct-2021 04:06 | 290 | ||