Name | Last modified | Size | Description | |
---|---|---|---|---|
Parent Directory | - | |||
install-summary.dcf | 16-Oct-2021 04:06 | 605 | ||
install-out.txt | 16-Oct-2021 04:06 | 176K | ||
checksrc-summary.dcf | 16-Oct-2021 04:06 | 446 | ||
checksrc-out.txt | 16-Oct-2021 04:06 | 5.2K | ||
buildsrc-summary.dcf | 16-Oct-2021 04:06 | 443 | ||
buildsrc-out.txt | 16-Oct-2021 04:06 | 917 | ||
buildbin-summary.dcf | 16-Oct-2021 04:06 | 516 | ||
buildbin-out.txt | 16-Oct-2021 04:06 | 175K | ||