Name | Last modified | Size | Description | |
---|---|---|---|---|
Parent Directory | - | |||
install-out.txt | 16-Oct-2021 04:05 | 94K | ||
install-summary.dcf | 16-Oct-2021 04:05 | 251 | ||
buildsrc-out.txt | 16-Oct-2021 04:05 | 883 | ||
buildsrc-summary.dcf | 16-Oct-2021 04:05 | 404 | ||
checksrc-out.txt | 16-Oct-2021 04:05 | 3.7K | ||
checksrc-summary.dcf | 16-Oct-2021 04:05 | 408 | ||