Name | Last modified | Size | Description | |
---|---|---|---|---|
Parent Directory | - | |||
buildbin-summary.dcf | 16-Oct-2021 04:06 | 557 | ||
buildbin-out.txt | 16-Oct-2021 04:06 | 2.8K | ||
checksrc-summary.dcf | 16-Oct-2021 04:06 | 480 | ||
checksrc-out.txt | 16-Oct-2021 04:06 | 20K | ||
buildsrc-summary.dcf | 16-Oct-2021 04:06 | 471 | ||
buildsrc-out.txt | 16-Oct-2021 04:06 | 920 | ||
install-summary.dcf | 16-Oct-2021 04:06 | 668 | ||
install-out.txt | 16-Oct-2021 04:06 | 6.5K | ||