Name | Last modified | Size | Description | |
---|---|---|---|---|
Parent Directory | - | |||
buildsrc-summary.dcf | 16-Oct-2021 04:06 | 487 | ||
checksrc-summary.dcf | 16-Oct-2021 04:06 | 497 | ||
buildbin-summary.dcf | 16-Oct-2021 04:06 | 581 | ||
install-summary.dcf | 16-Oct-2021 04:06 | 703 | ||
buildsrc-out.txt | 16-Oct-2021 04:06 | 880 | ||
buildbin-out.txt | 16-Oct-2021 04:06 | 2.8K | ||
install-out.txt | 16-Oct-2021 04:06 | 4.1K | ||
checksrc-out.txt | 16-Oct-2021 04:06 | 6.9K | ||