Name | Last modified | Size | Description | |
---|---|---|---|---|
Parent Directory | - | |||
buildsrc-out.txt | 16-Oct-2021 04:05 | 834 | ||
buildsrc-summary.dcf | 16-Oct-2021 04:05 | 438 | ||
checksrc-out.txt | 16-Oct-2021 04:05 | 5.7K | ||
checksrc-summary.dcf | 16-Oct-2021 04:05 | 458 | ||
install-out.txt | 16-Oct-2021 04:05 | 1.6K | ||
install-summary.dcf | 16-Oct-2021 04:05 | 273 | ||