Name | Last modified | Size | Description | |
---|---|---|---|---|
Parent Directory | - | |||
install-summary.dcf | 16-Oct-2021 04:06 | 305 | ||
install-out.txt | 16-Oct-2021 04:06 | 1.0K | ||
checksrc-summary.dcf | 16-Oct-2021 04:06 | 522 | ||
checksrc-out.txt | 16-Oct-2021 04:06 | 3.8K | ||
buildsrc-summary.dcf | 16-Oct-2021 04:06 | 473 | ||
buildsrc-out.txt | 16-Oct-2021 04:06 | 872 | ||
buildbin-summary.dcf | 16-Oct-2021 04:06 | 604 | ||
buildbin-out.txt | 16-Oct-2021 04:06 | 1.3K | ||