Name | Last modified | Size | Description | |
---|---|---|---|---|
Parent Directory | - | |||
buildbin-summary.dcf | 16-Oct-2021 04:06 | 545 | ||
buildbin-out.txt | 16-Oct-2021 04:06 | 2.2K | ||
checksrc-summary.dcf | 16-Oct-2021 04:06 | 469 | ||
checksrc-out.txt | 16-Oct-2021 04:06 | 1.5K | ||
buildsrc-summary.dcf | 16-Oct-2021 04:06 | 462 | ||
buildsrc-out.txt | 16-Oct-2021 04:06 | 910 | ||
install-summary.dcf | 16-Oct-2021 04:06 | 652 | ||
install-out.txt | 16-Oct-2021 04:06 | 1.7K | ||