Name | Last modified | Size | Description | |
---|---|---|---|---|
Parent Directory | - | |||
install-summary.dcf | 16-Oct-2021 04:06 | 286 | ||
install-out.txt | 16-Oct-2021 04:06 | 3.1K | ||
checksrc-summary.dcf | 16-Oct-2021 04:06 | 476 | ||
checksrc-out.txt | 16-Oct-2021 04:06 | 3.9K | ||
buildsrc-summary.dcf | 16-Oct-2021 04:06 | 443 | ||
buildsrc-out.txt | 16-Oct-2021 04:06 | 862 | ||
buildbin-summary.dcf | 16-Oct-2021 04:06 | 545 | ||
buildbin-out.txt | 16-Oct-2021 04:06 | 4.1K | ||