Name | Last modified | Size | Description | |
---|---|---|---|---|
Parent Directory | - | |||
install-out.txt | 16-Oct-2021 04:06 | 14K | ||
install-summary.dcf | 16-Oct-2021 04:06 | 659 | ||
buildsrc-out.txt | 16-Oct-2021 04:06 | 1.3K | ||
buildsrc-summary.dcf | 16-Oct-2021 04:06 | 466 | ||
checksrc-out.txt | 16-Oct-2021 04:06 | 5.6K | ||
checksrc-summary.dcf | 16-Oct-2021 04:06 | 469 | ||
buildbin-out.txt | 16-Oct-2021 04:06 | 13K | ||
buildbin-summary.dcf | 16-Oct-2021 04:06 | 551 | ||