Name | Last modified | Size | Description | |
---|---|---|---|---|
Parent Directory | - | |||
install-summary.dcf | 16-Oct-2021 04:06 | 605 | ||
install-out.txt | 16-Oct-2021 04:06 | 4.3K | ||
checksrc-summary.dcf | 16-Oct-2021 04:06 | 446 | ||
checksrc-out.txt | 16-Oct-2021 04:06 | 3.9K | ||
buildsrc-summary.dcf | 16-Oct-2021 04:06 | 443 | ||
buildsrc-out.txt | 16-Oct-2021 04:06 | 885 | ||
buildbin-summary.dcf | 16-Oct-2021 04:06 | 515 | ||
buildbin-out.txt | 16-Oct-2021 04:06 | 3.4K | ||