Name | Last modified | Size | Description | |
---|---|---|---|---|
Parent Directory | - | |||
checksrc-summary.dcf | 16-Oct-2021 04:05 | 478 | ||
checksrc-out.txt | 16-Oct-2021 04:05 | 3.6K | ||
buildsrc-summary.dcf | 16-Oct-2021 04:05 | 457 | ||
buildsrc-out.txt | 16-Oct-2021 04:05 | 924 | ||
install-summary.dcf | 16-Oct-2021 04:05 | 286 | ||
install-out.txt | 16-Oct-2021 04:05 | 1.0K | ||