Index of /checkResults/3.13/bioc-LATEST/RGalaxy/raw-results/tokay2
Name
Last modified
Size
Description
Parent Directory
-
install-out.txt
16-Oct-2021 04:06
2.8K
buildsrc-out.txt
16-Oct-2021 04:06
1.1K
install-summary.dcf
16-Oct-2021 04:06
641
buildsrc-summary.dcf
16-Oct-2021 04:06
374