Name | Last modified | Size | Description | |
---|---|---|---|---|
Parent Directory | - | |||
install-summary.dcf | 16-Oct-2021 04:06 | 616 | ||
install-out.txt | 16-Oct-2021 04:06 | 2.0K | ||
checksrc-summary.dcf | 16-Oct-2021 04:06 | 452 | ||
checksrc-out.txt | 16-Oct-2021 04:06 | 3.6K | ||
buildsrc-summary.dcf | 16-Oct-2021 04:06 | 449 | ||
buildsrc-out.txt | 16-Oct-2021 04:06 | 871 | ||
buildbin-summary.dcf | 16-Oct-2021 04:06 | 524 | ||
buildbin-out.txt | 16-Oct-2021 04:06 | 1.3K | ||