Name | Last modified | Size | Description | |
---|---|---|---|---|
Parent Directory | - | |||
install-out.txt | 16-Oct-2021 04:06 | 6.8K | ||
install-summary.dcf | 16-Oct-2021 04:06 | 686 | ||
buildsrc-out.txt | 16-Oct-2021 04:06 | 930 | ||
buildsrc-summary.dcf | 16-Oct-2021 04:06 | 479 | ||
checksrc-summary.dcf | 16-Oct-2021 04:06 | 482 | ||
checksrc-out.txt | 16-Oct-2021 04:06 | 4.4K | ||
buildbin-out.txt | 16-Oct-2021 04:06 | 6.1K | ||
buildbin-summary.dcf | 16-Oct-2021 04:06 | 569 | ||