Name | Last modified | Size | Description | |
---|---|---|---|---|
Parent Directory | - | |||
buildsrc-summary.dcf | 16-Oct-2021 04:06 | 449 | ||
checksrc-summary.dcf | 16-Oct-2021 04:06 | 451 | ||
buildbin-summary.dcf | 16-Oct-2021 04:06 | 523 | ||
install-summary.dcf | 16-Oct-2021 04:06 | 616 | ||
buildsrc-out.txt | 16-Oct-2021 04:06 | 834 | ||
buildbin-out.txt | 16-Oct-2021 04:06 | 1.7K | ||
install-out.txt | 16-Oct-2021 04:06 | 2.5K | ||
checksrc-out.txt | 16-Oct-2021 04:06 | 4.0K | ||