Name | Last modified | Size | Description | |
---|---|---|---|---|
Parent Directory | - | |||
buildbin-summary.dcf | 16-Oct-2021 04:06 | 617 | ||
buildbin-out.txt | 16-Oct-2021 04:06 | 3.6K | ||
checksrc-summary.dcf | 16-Oct-2021 04:06 | 520 | ||
checksrc-out.txt | 16-Oct-2021 04:06 | 4.2K | ||
install-out.txt | 16-Oct-2021 04:06 | 4.3K | ||
buildsrc-summary.dcf | 16-Oct-2021 04:06 | 509 | ||
buildsrc-out.txt | 16-Oct-2021 04:06 | 910 | ||
install-summary.dcf | 16-Oct-2021 04:06 | 757 | ||